BEGIN:VCALENDAR
VERSION:2.0
PRODID:-//Wisdom is Yours - ECPv4.9.12//NONSGML v1.0//EN
CALSCALE:GREGORIAN
METHOD:PUBLISH
X-WR-CALNAME:Wisdom is Yours
X-ORIGINAL-URL:https://wisdomisyours.co.nz
X-WR-CALDESC:Events for Wisdom is Yours
BEGIN:VTIMEZONE
TZID:Pacific/Auckland
BEGIN:STANDARD
TZOFFSETFROM:+1300
TZOFFSETTO:+1200
TZNAME:NZST
DTSTART:20260404T140000
END:STANDARD
BEGIN:DAYLIGHT
TZOFFSETFROM:+1200
TZOFFSETTO:+1300
TZNAME:NZDT
DTSTART:20260926T140000
END:DAYLIGHT
END:VTIMEZONE
BEGIN:VEVENT
DTSTART;TZID=Pacific/Auckland:20260124T110000
DTEND;TZID=Pacific/Auckland:20260124T120000
DTSTAMP:20260421T182953
CREATED:20251222T002422Z
LAST-MODIFIED:20251222T005644Z
UID:11957-1769252400-1769256000@wisdomisyours.co.nz
SUMMARY:Presentation of clairvoyance with Lyn Pollock
DESCRIPTION:Lyn Pollock | Energy Healer & Intuitive Artist\nLyn is well known for her funky renditions of Quirky Houses\, Fairy Houses\, Teapots and more… recently she’s been delving into the fairy realms\, drawing fairies with character and quirky elemental beings. You’ll often find her selling her original artworks at local craft markets and spiritual events. Lyn runs her own art workshops in the Manawatu\, teaching people how to incorporate doodling into their own drawings of houses\, fairies\, teapots and more… \nLyn will be in the sanctuary to give a presentation of clairvoyance\, messages of guidance from the spiritual realms with a quirky touch in a public forum. Everybody is welcome and the cost is a donation. \n
URL:https://wisdomisyours.co.nz/event/presentation-of-clairvoyance-with-lyn-pollock/
CATEGORIES:Open Days,Special Day
ATTACH;FMTTYPE=image/jpeg:https://wisdomisyours.co.nz/wp-content/uploads/2025/12/307749484_522257216570798_312465197828577329_n.jpg
END:VEVENT
END:VCALENDAR